BEGIN:VCALENDAR
VERSION:2.0
BEGIN:VEVENT
SUMMARY:Reach out to Rockies Venture Club about RVC HyperAccelerator
DESCRIPTION:Reach out to them for information about their program.\n\nDescription: Intensive 5-day mentor-driven program preparing startups to raise angel or venture capital. Covers exit strategy, OKRs, go-to-market, five valuation models, and capital strategy. No equity. Culminates in investor Demo Day.\n\n- Phone: (720) 305-4277\n- Email: info@rockiesventureclub.org\n- Source: https://founder-nav.com/programs/recAybtmHYDpzGcdv\n\n---\nBrought to you by Founder Nav, helping entrepreneurs navigate the entrepreneurial ecosystem.
DTSTART:20260425T100047Z
DTEND:20260425T103047Z
END:VEVENT
END:VCALENDAR