BEGIN:VCALENDAR
VERSION:2.0
BEGIN:VEVENT
SUMMARY:Reach out to SCORE Eastern Iowa & Quad Cities about Local Workshops & Training Events
DESCRIPTION:Reach out to them for information about their program.\n\nDescription: Low- or no-cost business workshops and training events covering topics like marketing, finance, business planning, and operations for small business owners and entrepreneurs in Eastern Iowa.\n\n- Phone: (800) 634-0245\n- Source: https://founder-nav.com/programs/recArv2PuL8s5FzmX\n\n---\nBrought to you by Founder Nav, helping entrepreneurs navigate the entrepreneurial ecosystem.
DTSTART:20260425T100018Z
DTEND:20260425T103018Z
END:VEVENT
END:VCALENDAR