BEGIN:VCALENDAR
VERSION:2.0
BEGIN:VEVENT
SUMMARY:Reach out to Innovation Works Baltimore about Innovation Works Social Entrepreneurship Accelerator (6-Month)
DESCRIPTION:Reach out to them for information about their program.\n\nDescription: A 6-month accelerator program for social enterprises in Baltimore focused on building sustainable neighborhood economies in historically disinvested Black communities. Based on the Miller Center for Social Entrepreneurship (Santa Clara University) model. Provides curriculum, mentoring, access to Ignite Capital impact investment, and peer community.\n\n- Source: https://founder-nav.com/programs/recAN8jx9HKlrjM8G\n\n---\nBrought to you by Founder Nav, helping entrepreneurs navigate the entrepreneurial ecosystem.
DTSTART:20260425T100018Z
DTEND:20260425T103018Z
END:VEVENT
END:VCALENDAR