BEGIN:VCALENDAR
VERSION:2.0
BEGIN:VEVENT
SUMMARY:Reach out to Techstars San Diego powered by San Diego State University Accelerator about Techstars San Diego powered by SDSU
DESCRIPTION:Reach out to them for information about their program.\n\nDescription: 13-week Techstars accelerator in San Diego in partnership with SDSU, investing $120K in 7–12 B2B/B2C tech companies per cohort. Open globally with no SDSU affiliation required.\n\n- Phone: (619) 925-9055\n- Email: cpucher@sdsu.edu\n- Source: https://founder-nav.com/programs/recAEd5zjXxP5xOui\n\n---\nBrought to you by Founder Nav, helping entrepreneurs navigate the entrepreneurial ecosystem.
DTSTART:20260425T100056Z
DTEND:20260425T103056Z
END:VEVENT
END:VCALENDAR