BEGIN:VCALENDAR
VERSION:2.0
BEGIN:VEVENT
SUMMARY:Reach out to Flagstaff Gravity Lab about Flagstaff Gravity Lab
DESCRIPTION:Reach out to them for information about their program.\n\nDescription: A business accelerator and innovation hub in Flagstaff, Arizona supporting local entrepreneurs with training, mentorship, and community programming to launch and grow businesses in Northern Arizona.\n\n- Source: https://founder-nav.com/programs/recAEIHaHtbmRBmIP\n\n---\nBrought to you by Founder Nav, helping entrepreneurs navigate the entrepreneurial ecosystem.
DTSTART:20260425T100033Z
DTEND:20260425T103033Z
END:VEVENT
END:VCALENDAR