BEGIN:VCALENDAR
VERSION:2.0
BEGIN:VEVENT
SUMMARY:Reach out to The Pi Shop about The Pi Shop Product Business Incubator
DESCRIPTION:Reach out to them for information about their program.\n\nDescription: Provides infrastructure, mentorship, engineering support, and grant assistance to help entrepreneurs and inventors design, test, and manufacture technology or product-based ventures in California’s Central Valley. Focuses on collaboration, innovation, and practical business development.\n\n- Phone: (559) 481-5004\n- Email: info@thepishop.org\n- Source: https://founder-nav.com/programs/recACdzOw5pwQqjXq\n\n---\nBrought to you by Founder Nav, helping entrepreneurs navigate the entrepreneurial ecosystem.
DTSTART:20260425T100015Z
DTEND:20260425T103015Z
END:VEVENT
END:VCALENDAR