BEGIN:VCALENDAR
VERSION:2.0
BEGIN:VEVENT
SUMMARY:Reach out to Unknown Hub about Traction Lab Venture Accelerator
DESCRIPTION:Reach out to them for information about their program.\n\nDescription: Helps pre-seed and seed-stage, tech-enabled startups in large markets achieve product-market fit and prepare for fundraising by guiding founders through market validation, mentorship, and operational support, aiming to accelerate growth and reduce time to investment readiness.\n\n- Email: jobs@rightbox.co\n- Source: https://founder-nav.com/programs/recA6JwHvpF5IVwP1\n\n---\nBrought to you by Founder Nav, helping entrepreneurs navigate the entrepreneurial ecosystem.
DTSTART:20260425T100034Z
DTEND:20260425T103034Z
END:VEVENT
END:VCALENDAR