BEGIN:VCALENDAR
VERSION:2.0
BEGIN:VEVENT
SUMMARY:Reach out to Entrepreneur & Business Center at Joliet Junior College about One-on-One Advising
DESCRIPTION:Reach out to them for information about their program.\n\nDescription: Clients can schedule an appointment to meet with one of Entrepreneur & Business Center (EBC) advisors. We then follow up with regular meetings for as long as our support is needed to help you launch your business.\n\n- Phone: (815) 280-1343\n- Email: fatina.sayegh@jjc.edu\n- Source: https://founder-nav.com/programs/rec9iFbTTwBYBDXAA\n\n---\nBrought to you by Founder Nav, helping entrepreneurs navigate the entrepreneurial ecosystem.
DTSTART:20260425T100038Z
DTEND:20260425T103038Z
END:VEVENT
END:VCALENDAR