BEGIN:VCALENDAR
VERSION:2.0
BEGIN:VEVENT
SUMMARY:Reach out to SCORE – Southern Colorado  about SCORE Southern Colorado Mentoring & Workshops
DESCRIPTION:Reach out to them for information about their program.\n\nDescription: Free business mentoring and training workshops for entrepreneurs in Southern Colorado (Colorado Springs area). Volunteer mentors provide no-cost, confidential advice on starting and growing businesses.\n\n- Phone: (719) 249-1711\n- Source: https://founder-nav.com/programs/rec9fFkkJEuAv9cLc\n\n---\nBrought to you by Founder Nav, helping entrepreneurs navigate the entrepreneurial ecosystem.
DTSTART:20260425T100051Z
DTEND:20260425T103051Z
END:VEVENT
END:VCALENDAR