BEGIN:VCALENDAR
VERSION:2.0
BEGIN:VEVENT
SUMMARY:Reach out to QuantumCT about QuantumCT Incubator (Deep Tech Startups)
DESCRIPTION:Reach out to them for information about their program.\n\nDescription: Deep tech incubator for quantum and advanced technology startups, providing lab space, mentorship, early-stage investment connections, and access to CT's quantum ecosystem.\n\n- Source: https://founder-nav.com/programs/rec9VkEQrTCSL1NYY\n\n---\nBrought to you by Founder Nav, helping entrepreneurs navigate the entrepreneurial ecosystem.
DTSTART:20260425T100052Z
DTEND:20260425T103052Z
END:VEVENT
END:VCALENDAR