BEGIN:VCALENDAR
VERSION:2.0
BEGIN:VEVENT
SUMMARY:Reach out to UpStart Maine about UpStart Center for Entrepreneurship (Incubator)
DESCRIPTION:Reach out to them for information about their program.\n\nDescription: A 20,000 sq ft physical incubator in Orono providing office space, coaching, and support to innovation-driven Maine startups, with strong University of Maine connections.\n\n- Phone: (207) 866-2406\n- Email: innovation@upstartmaine.org\n- Source: https://founder-nav.com/programs/rec9RbsLHet732yVH\n\n---\nBrought to you by Founder Nav, helping entrepreneurs navigate the entrepreneurial ecosystem.
DTSTART:20260425T100001Z
DTEND:20260425T103001Z
END:VEVENT
END:VCALENDAR