BEGIN:VCALENDAR
VERSION:2.0
BEGIN:VEVENT
SUMMARY:Reach out to Business Impact NW about Classes & Training
DESCRIPTION:Reach out to them for information about their program.\n\nDescription: In-person and online business classes offered through the Idaho Women's Business Center, covering topics from startup basics and financial management to marketing and procurement — open to all entrepreneurs.\n\n- Phone: (208) 608-5174\n- Email: iwbc@businessimpactnw.org\n- Source: https://founder-nav.com/programs/rec9IGQP7KMmYHDod\n\n---\nBrought to you by Founder Nav, helping entrepreneurs navigate the entrepreneurial ecosystem.
DTSTART:20260425T100023Z
DTEND:20260425T103023Z
END:VEVENT
END:VCALENDAR