BEGIN:VCALENDAR
VERSION:2.0
BEGIN:VEVENT
SUMMARY:Reach out to Maine Development Foundation about Leadership Maine
DESCRIPTION:Reach out to them for information about their program.\n\nDescription: A 9-month leadership development program that takes Maine business and community leaders on an outward journey, exposing them to critical issues shaping the state's future.\n\n- Phone: (207) 622-6345\n- Email: jkearce@mdf.org\n- Source: https://founder-nav.com/programs/rec991iB4VpqYdlTl\n\n---\nBrought to you by Founder Nav, helping entrepreneurs navigate the entrepreneurial ecosystem.
DTSTART:20260425T100001Z
DTEND:20260425T103001Z
END:VEVENT
END:VCALENDAR