BEGIN:VCALENDAR
VERSION:2.0
BEGIN:VEVENT
SUMMARY:Reach out to Russel Innovation Center for Entrepreneurs about Product Pathway Program
DESCRIPTION:Reach out to them for information about their program.\n\nDescription: The program offers a structured approach to readying stakeholders for product design, prototype development and eventually mass distribution. The goal of this program is to start with the conceptual design of a physical product and end with a finished prototype, technical design and custom packaging.\n\n- Email: jtiara@rcie.org\n- Source: https://founder-nav.com/programs/rec96IO5XDxcU11oI\n\n---\nBrought to you by Founder Nav, helping entrepreneurs navigate the entrepreneurial ecosystem.
DTSTART:20260425T100029Z
DTEND:20260425T103029Z
END:VEVENT
END:VCALENDAR