BEGIN:VCALENDAR
VERSION:2.0
BEGIN:VEVENT
SUMMARY:Reach out to LA Cleantech Incubator (LACI) about LACI Incubation Program
DESCRIPTION:Reach out to them for information about their program.\n\nDescription: 6-month cleantech incubation program at La Kretz Innovation Campus in Los Angeles supporting pre-seed/seed startups in transportation, energy, and sustainable cities.\n\n- Email: pipeline@laincubator.org\n- Source: https://founder-nav.com/programs/rec95Kb3V4JEcmivT\n\n---\nBrought to you by Founder Nav, helping entrepreneurs navigate the entrepreneurial ecosystem.
DTSTART:20260425T100016Z
DTEND:20260425T103016Z
END:VEVENT
END:VCALENDAR