BEGIN:VCALENDAR
VERSION:2.0
BEGIN:VEVENT
SUMMARY:Reach out to Louisiana Economic Development about Rural Entrepreneurship Initiative
DESCRIPTION:Reach out to them for information about their program.\n\nDescription: LED’s Rural Entrepreneurship Initiative, delivered in partnership with the Edward Lowe Foundation, aims to accelerate the growth of second-stage businesses in rural areas of Louisiana. Program participants will be able to identify what scaling means for both their companies and their communities and will be connected to the right tools and expertise to execute the strategy.\n\n- Phone: (225) 342-4492\n- Email: johnna.johnson@la.gov\n- Source: https://founder-nav.com/programs/rec938ZQGDYikB6zT\n\n---\nBrought to you by Founder Nav, helping entrepreneurs navigate the entrepreneurial ecosystem.
DTSTART:20260425T100026Z
DTEND:20260425T103026Z
END:VEVENT
END:VCALENDAR