BEGIN:VCALENDAR
VERSION:2.0
BEGIN:VEVENT
SUMMARY:Reach out to Wichita State University – Center for Entrepreneurship about Fambition Program
DESCRIPTION:Reach out to them for information about their program.\n\nDescription: 2-year development program for next-generation family business members, featuring 8 quarterly half-day training sessions on MBTI, leadership, governance, and ownership management, plus individual coaching throughout.\n\n- Phone: (316) 978-6269\n- Email: nancy.kersenbrock@wichita.edu\n- Source: https://founder-nav.com/programs/rec90TkoEVjVyodhe\n\n---\nBrought to you by Founder Nav, helping entrepreneurs navigate the entrepreneurial ecosystem.
DTSTART:20260425T100052Z
DTEND:20260425T103052Z
END:VEVENT
END:VCALENDAR