BEGIN:VCALENDAR
VERSION:2.0
BEGIN:VEVENT
SUMMARY:Reach out to Veterans In Business (VIB) Network about Boots to Contracts Program
DESCRIPTION:Reach out to them for information about their program.\n\nDescription: Specialized program helping veteran entrepreneurs transition into government contracting, providing tools, training, and connections to win contracts.\n\n- Email: rebecca@vibnetwork.org\n- Source: https://founder-nav.com/programs/rec8zRyX3V9hvQ4Vl\n\n---\nBrought to you by Founder Nav, helping entrepreneurs navigate the entrepreneurial ecosystem.
DTSTART:20260425T100041Z
DTEND:20260425T103041Z
END:VEVENT
END:VCALENDAR