BEGIN:VCALENDAR
VERSION:2.0
BEGIN:VEVENT
SUMMARY:Reach out to Atlanta Tech Village about Startup Summer School
DESCRIPTION:Reach out to them for information about their program.\n\nDescription: Have an idea? Do you crave to build something? Working on a startup but looking for a refresher? Join us each Tuesday of the summer, for a semester of Startup Summer School. Learn from leaders in Atlanta's tech ecosystem about what it looks like to start your own company and how to do it well.\n\n- Email: julie.pierre@atlantatechvillage.com\n- Source: https://founder-nav.com/programs/rec8rfIKLjfbxs9PS\n\n---\nBrought to you by Founder Nav, helping entrepreneurs navigate the entrepreneurial ecosystem.
DTSTART:20260425T100009Z
DTEND:20260425T103009Z
END:VEVENT
END:VCALENDAR