BEGIN:VCALENDAR
VERSION:2.0
BEGIN:VEVENT
SUMMARY:Reach out to Tech Venture Studio about KCInvestED
DESCRIPTION:Reach out to them for information about their program.\n\nDescription: Assists investors in the Kansas City area by providing access to resources, events, and tools for gaining knowledge about early-stage company investment. Our mission is to identify, educate and connect existing and potential investors and track investments in our region.\n\n- Source: https://founder-nav.com/programs/rec8kQnUx75EOEeLU\n\n---\nBrought to you by Founder Nav, helping entrepreneurs navigate the entrepreneurial ecosystem.
DTSTART:20260425T100043Z
DTEND:20260425T103043Z
END:VEVENT
END:VCALENDAR