BEGIN:VCALENDAR
VERSION:2.0
BEGIN:VEVENT
SUMMARY:Reach out to Inland Empire Women’s Business Center (IEWBC) about IEWBC Business Counseling & Mentoring
DESCRIPTION:Reach out to them for information about their program.\n\nDescription: Free one-on-one business counseling and mentoring for women entrepreneurs in Inland Southern California (San Bernardino and Riverside counties). Services include business model development, marketing strategy, financial management, startup guidance, and referrals. Bilingual services in English and Spanish, with targeted outreach to Latina business owners. SBA-partnered program since 2003.\n\n- Phone: (833) 939-3709\n- Email: helpdesk@iewbc.org\n- Source: https://founder-nav.com/programs/rec8iQQn0eLnVEBjZ\n\n---\nBrought to you by Founder Nav, helping entrepreneurs navigate the entrepreneurial ecosystem.
DTSTART:20260425T100024Z
DTEND:20260425T103024Z
END:VEVENT
END:VCALENDAR