BEGIN:VCALENDAR
VERSION:2.0
BEGIN:VEVENT
SUMMARY:Reach out to Proof Incubator about Multi-Channel Sales + Marketing Accelerator
DESCRIPTION:Reach out to them for information about their program.\n\nDescription: An eight-week experience designed to help entrepreneurs develop a strong understanding of multiple sales channels to develop their business for sustainable growth through multiple streams of revenue.\n\n- Email: info@proofincubator.com\n- Source: https://founder-nav.com/programs/rec8geBOgLBpFdDaG\n\n---\nBrought to you by Founder Nav, helping entrepreneurs navigate the entrepreneurial ecosystem.
DTSTART:20260425T100024Z
DTEND:20260425T103024Z
END:VEVENT
END:VCALENDAR