BEGIN:VCALENDAR
VERSION:2.0
BEGIN:VEVENT
SUMMARY:Reach out to Howard County Economic Development Authority about Cyber Howard Accelerator
DESCRIPTION:Reach out to them for information about their program.\n\nDescription: Intensive 12-week accelerator for early-stage cybersecurity startups, providing mentorship, funding connections, and technical resources to refine products, scale operations, and secure investment.\n\n- Phone: (410) 313-0720\n- Email: bzhang@hceda.org\n- Source: https://founder-nav.com/programs/rec8fyiIpENa5q0UF\n\n---\nBrought to you by Founder Nav, helping entrepreneurs navigate the entrepreneurial ecosystem.
DTSTART:20260425T100047Z
DTEND:20260425T103047Z
END:VEVENT
END:VCALENDAR