BEGIN:VCALENDAR
VERSION:2.0
BEGIN:VEVENT
SUMMARY:Reach out to Maryland Women’s Business Center Montgomery County about MWBC Shop Local (Retail Business Incubator)
DESCRIPTION:Reach out to them for information about their program.\n\nDescription: Retail business incubator for women entrepreneurs in shared retail space at Rockville Town Square and Savage Mill, combining 6-month program-based and space-based models with counseling, workshops, and mentorship.\n\n- Phone: (301) 315-8091\n- Email: info@marylandwbc.org\n- Source: https://founder-nav.com/programs/rec8fDP54rHMVAeVI\n\n---\nBrought to you by Founder Nav, helping entrepreneurs navigate the entrepreneurial ecosystem.
DTSTART:20260425T100004Z
DTEND:20260425T103004Z
END:VEVENT
END:VCALENDAR