BEGIN:VCALENDAR
VERSION:2.0
BEGIN:VEVENT
SUMMARY:Reach out to KU Innovation Park about ACCEL-KS at KU Innovation Park
DESCRIPTION:Reach out to them for information about their program.\n\nDescription: Structured, cohort-based proof-of-concept program providing up to $25,000 in PoC funding, entrepreneurial education, and commercialization tools for Kansas innovators.\n\n- Source: https://founder-nav.com/programs/rec8fATHMhCm7pfum\n\n---\nBrought to you by Founder Nav, helping entrepreneurs navigate the entrepreneurial ecosystem.
DTSTART:20260425T100023Z
DTEND:20260425T103023Z
END:VEVENT
END:VCALENDAR