BEGIN:VCALENDAR
VERSION:2.0
BEGIN:VEVENT
SUMMARY:Reach out to Business Impact NW about Free Business Coaching
DESCRIPTION:Reach out to them for information about their program.\n\nDescription: Free one-on-one business coaching available by phone, video conference, or in person through the Idaho Women's Business Center, offering personalized guidance for entrepreneurs at any stage.\n\n- Phone: (208) 608-5174\n- Email: iwbc@businessimpactnw.org\n- Source: https://founder-nav.com/programs/rec8TgnPGa5o6se01\n\n---\nBrought to you by Founder Nav, helping entrepreneurs navigate the entrepreneurial ecosystem.
DTSTART:20260425T100028Z
DTEND:20260425T103028Z
END:VEVENT
END:VCALENDAR