BEGIN:VCALENDAR
VERSION:2.0
BEGIN:VEVENT
SUMMARY:Reach out to California Hispanic Chambers of Commerce about CAPS Leadership Development Program
DESCRIPTION:Reach out to them for information about their program.\n\nDescription: Leadership development program for Hispanic chamber leaders and business professionals, building skills in advocacy, governance, and community leadership.\n\n- Phone: (916) 444-2221\n- Email: info@cahcc.com\n- Source: https://founder-nav.com/programs/rec8R8T08WBWT0iVl\n\n---\nBrought to you by Founder Nav, helping entrepreneurs navigate the entrepreneurial ecosystem.
DTSTART:20260425T100056Z
DTEND:20260425T103056Z
END:VEVENT
END:VCALENDAR