BEGIN:VCALENDAR
VERSION:2.0
BEGIN:VEVENT
SUMMARY:Reach out to NXTUS, Inc. about NXTSTAGE Customer Traction Cohort
DESCRIPTION:Reach out to them for information about their program.\n\nDescription: Cohort-based program for early-stage Kansas startups with some revenue, providing customized coaching and workshops to accelerate customer acquisition and achieve product-market fit.\n\n- Phone: (316) 214-7657\n- Source: https://founder-nav.com/programs/rec8OmIfVm1hzACPa\n\n---\nBrought to you by Founder Nav, helping entrepreneurs navigate the entrepreneurial ecosystem.
DTSTART:20260425T100041Z
DTEND:20260425T103041Z
END:VEVENT
END:VCALENDAR