BEGIN:VCALENDAR
VERSION:2.0
BEGIN:VEVENT
SUMMARY:Reach out to UConn Innovation about Wolff New Venture Competition
DESCRIPTION:Reach out to them for information about their program.\n\nDescription: UConn's premier annual pitch competition, featuring the top 5 startups from the CCEI Summer Accelerator competing for $150,000+ in total prizes, including a $30,000 grand prize, before a panel of venture experts.\n\n- Email: alycia.chrosniak@uconn.edu\n- Source: https://founder-nav.com/programs/rec8OZkKOqe9rN9uX\n\n---\nBrought to you by Founder Nav, helping entrepreneurs navigate the entrepreneurial ecosystem.
DTSTART:20260421T100051Z
DTEND:20260421T103051Z
END:VEVENT
END:VCALENDAR