BEGIN:VCALENDAR
VERSION:2.0
BEGIN:VEVENT
SUMMARY:Reach out to San Luis Business Incubator about San Luis Business Incubator
DESCRIPTION:Reach out to them for information about their program.\n\nDescription: A bilingual business incubator in San Luis, Arizona serving entrepreneurs in the Yuma County border region with business training, coaching, and co-working space to help launch and grow businesses.\n\n- Source: https://founder-nav.com/programs/rec8NN2ea8TeOFGOc\n\n---\nBrought to you by Founder Nav, helping entrepreneurs navigate the entrepreneurial ecosystem.
DTSTART:20260425T100021Z
DTEND:20260425T103021Z
END:VEVENT
END:VCALENDAR