BEGIN:VCALENDAR
VERSION:2.0
BEGIN:VEVENT
SUMMARY:Reach out to Sacramento Valley SBDC about The Shop: Beauty & Barber Program
DESCRIPTION:Reach out to them for information about their program.\n\nDescription: Provides a free, six-week online training series with business education, resources, and technical assistance for entrepreneurs starting cosmetology-related businesses, including one-on-one advising, guest speakers, and a certificate upon completion.\n\n- Phone: (916) 655-2100\n- Source: https://founder-nav.com/programs/rec8HIbwrWy0ONnoo\n\n---\nBrought to you by Founder Nav, helping entrepreneurs navigate the entrepreneurial ecosystem.
DTSTART:20260425T100014Z
DTEND:20260425T103014Z
END:VEVENT
END:VCALENDAR