BEGIN:VCALENDAR
VERSION:2.0
BEGIN:VEVENT
SUMMARY:Reach out to Exponential Impact about XI Start Program (Post-Accelerator)
DESCRIPTION:Reach out to them for information about their program.\n\nDescription: 9-month program for post-accelerator companies helping businesses sustainably scale through monthly programming, mentors, community building, and dedicated co-working space access.\n\n- Phone: (303) 809-5042\n- Email: info@exponentialimpact.com\n- Source: https://founder-nav.com/programs/rec8Bj98jKPekEXSX\n\n---\nBrought to you by Founder Nav, helping entrepreneurs navigate the entrepreneurial ecosystem.
DTSTART:20260425T100019Z
DTEND:20260425T103019Z
END:VEVENT
END:VCALENDAR