BEGIN:VCALENDAR
VERSION:2.0
BEGIN:VEVENT
SUMMARY:Reach out to SBDC Bowie about Maryland SBDC Business Consulting & Training
DESCRIPTION:Reach out to them for information about their program.\n\nDescription: Offers free counseling and affordable training to support new and existing businesses at all stages, providing expert guidance, workshops, and resources to help entrepreneurs develop business plans and growth strategies in Maryland’s Corridor Region.\n\n- Source: https://founder-nav.com/programs/rec87HjYQVqFaA9LO\n\n---\nBrought to you by Founder Nav, helping entrepreneurs navigate the entrepreneurial ecosystem.
DTSTART:20260425T100042Z
DTEND:20260425T103042Z
END:VEVENT
END:VCALENDAR