BEGIN:VCALENDAR
VERSION:2.0
BEGIN:VEVENT
SUMMARY:Reach out to Delaware Prosperity Partnership about Startup302 Pitch Competition
DESCRIPTION:Reach out to them for information about their program.\n\nDescription: Annual pitch competition for tech-enabled startups with at least one founder from an underrepresented group, offering $100,000+ in nondilutive grant funding.\n\n- Email: ecrell@choosedelaware.com\n- Source: https://founder-nav.com/programs/rec82yJjgIC7vQoh1\n\n---\nBrought to you by Founder Nav, helping entrepreneurs navigate the entrepreneurial ecosystem.
DTSTART:20260425T100049Z
DTEND:20260425T103049Z
END:VEVENT
END:VCALENDAR