BEGIN:VCALENDAR
VERSION:2.0
BEGIN:VEVENT
SUMMARY:Reach out to Create Campaign, Inc. – A La Carte Kitchen Incubator about Let's Create Workshop Series
DESCRIPTION:Reach out to them for information about their program.\n\nDescription: 4-week workshop series providing practical entrepreneurship education and business development tools for early-stage and aspiring entrepreneurs in the Wichita area.\n\n- Source: https://founder-nav.com/programs/rec81U0zcBCtpYJTz\n\n---\nBrought to you by Founder Nav, helping entrepreneurs navigate the entrepreneurial ecosystem.
DTSTART:20260425T100019Z
DTEND:20260425T103019Z
END:VEVENT
END:VCALENDAR