BEGIN:VCALENDAR
VERSION:2.0
BEGIN:VEVENT
SUMMARY:Reach out to Kokokahi (YWCA Kokokahi – Women’s Business Center) about YWahine In Business Incubator
DESCRIPTION:Reach out to them for information about their program.\n\nDescription: Seven-week women's business incubator program co-hosted by YWCA Kokokahi (Women's Business Center) serving the Windward Oahu community. Partners with MCBL to provide business planning, financial literacy, and mentorship specifically for women entrepreneurs on the Windward side.\n\n- Phone: (808) 784-0430\n- Email: crp@ywcaoahu.org\n- Source: https://founder-nav.com/programs/rec7sBaedbfMSo9fu\n\n---\nBrought to you by Founder Nav, helping entrepreneurs navigate the entrepreneurial ecosystem.
DTSTART:20260425T100057Z
DTEND:20260425T103057Z
END:VEVENT
END:VCALENDAR