BEGIN:VCALENDAR
VERSION:2.0
BEGIN:VEVENT
SUMMARY:Reach out to ISU Pappajohn Center for Entrepreneurship about SheTalks
DESCRIPTION:Reach out to them for information about their program.\n\nDescription: Annual Pecha Kucha-style event celebrating and empowering women entrepreneurs at ISU through storytelling and peer inspiration.\n\n- Email: info@isupjcenter.org\n- Source: https://founder-nav.com/programs/rec7rHyxD8aw6YtWw\n\n---\nBrought to you by Founder Nav, helping entrepreneurs navigate the entrepreneurial ecosystem.
DTSTART:20260425T100045Z
DTEND:20260425T103045Z
END:VEVENT
END:VCALENDAR