BEGIN:VCALENDAR
VERSION:2.0
BEGIN:VEVENT
SUMMARY:Reach out to Create Campaign, Inc. – A La Carte Kitchen Incubator about A La Carte Kitchen Incubator
DESCRIPTION:Reach out to them for information about their program.\n\nDescription: Commercial kitchen incubator designed to launch and grow food-based brands, with licensing support and connection to local markets and events.\n\n- Email: sstephens@createcampaignks.com\n- Source: https://founder-nav.com/programs/rec7obXPesXlYYl2z\n\n---\nBrought to you by Founder Nav, helping entrepreneurs navigate the entrepreneurial ecosystem.
DTSTART:20260426T100043Z
DTEND:20260426T103043Z
END:VEVENT
END:VCALENDAR