BEGIN:VCALENDAR
VERSION:2.0
BEGIN:VEVENT
SUMMARY:Reach out to SBTDC about Taking the Leap
DESCRIPTION:Reach out to them for information about their program.\n\nDescription: Participants will learn about different aspects of starting a business, including identifying potential markets, writing a business plan, running the finances of a business, and marketing a business. You’ll work with mentors and peers in fun breakout activities designed to help strengthen your business ideas and prepare you for success!\n\n- Phone: (919) 715-7272\n- Email: info@sbtdc.org\n- Source: https://founder-nav.com/programs/rec7lW5yYvtMkGDzZ\n\n---\nBrought to you by Founder Nav, helping entrepreneurs navigate the entrepreneurial ecosystem.
DTSTART:20260425T100034Z
DTEND:20260425T103034Z
END:VEVENT
END:VCALENDAR