BEGIN:VCALENDAR
VERSION:2.0
BEGIN:VEVENT
SUMMARY:Reach out to STARTedUP Foundation about STARTedUP Innovation Accelerator
DESCRIPTION:Reach out to them for information about their program.\n\nDescription: Dynamic professional development program that equips high school educators with the tools, training, and community to foster innovative mindsets in their classrooms.\n\n- Email: https://www.startedupfoundation.org/accelerator\n- Source: https://founder-nav.com/programs/rec7UTWzvgj1m9d05\n\n---\nBrought to you by Founder Nav, helping entrepreneurs navigate the entrepreneurial ecosystem.
DTSTART:20260426T100023Z
DTEND:20260426T103023Z
END:VEVENT
END:VCALENDAR