BEGIN:VCALENDAR
VERSION:2.0
BEGIN:VEVENT
SUMMARY:Reach out to Baltimore Metropolitan Women's Business Center about U.P.S.C.A.L.E. Government Certification Program
DESCRIPTION:Reach out to them for information about their program.\n\nDescription: A hands-on program providing support for women entrepreneurs seeking government certifications including MBE (Minority Business Enterprise), WBE (Women's Business Enterprise), DBE (Disadvantaged Business Enterprise), and federal small business certifications. Helps participants navigate the certification process to access government contracting opportunities across Maryland and federally.\n\n- Source: https://founder-nav.com/programs/rec7P8xf8FF2cMRfn\n\n---\nBrought to you by Founder Nav, helping entrepreneurs navigate the entrepreneurial ecosystem.
DTSTART:20260425T100036Z
DTEND:20260425T103036Z
END:VEVENT
END:VCALENDAR