BEGIN:VCALENDAR
VERSION:2.0
BEGIN:VEVENT
SUMMARY:Reach out to The Underground about The Underground Incubator Program
DESCRIPTION:Reach out to them for information about their program.\n\nDescription: We help turn ideas into fully-functioning businesses by providing funding resources, collabortation, strategy and coaching.\n\n- Phone: (810) 937-2003\n- Email: kwankhede@edascc.com\n- Source: https://founder-nav.com/programs/rec7LXMso1SvIWbmL\n\n---\nBrought to you by Founder Nav, helping entrepreneurs navigate the entrepreneurial ecosystem.
DTSTART:20260425T100007Z
DTEND:20260425T103007Z
END:VEVENT
END:VCALENDAR