BEGIN:VCALENDAR
VERSION:2.0
BEGIN:VEVENT
SUMMARY:Reach out to Renaissance Entrepreneurship Center – Coastside / Half Moon Bay about Coastside / Half Moon Bay Business Training
DESCRIPTION:Reach out to them for information about their program.\n\nDescription: Entrepreneurship training and business support serving the Coastal San Mateo County (Half Moon Bay / Coastside area). Provides business planning courses, one-on-one consulting, and access to Renaissance's Bay Area network for early-stage and existing small business owners in the coastal community.\n\n- Phone: (415) 541-8580\n- Source: https://founder-nav.com/programs/rec7HUkryaNUxkfXD\n\n---\nBrought to you by Founder Nav, helping entrepreneurs navigate the entrepreneurial ecosystem.
DTSTART:20260425T100035Z
DTEND:20260425T103035Z
END:VEVENT
END:VCALENDAR