BEGIN:VCALENDAR
VERSION:2.0
BEGIN:VEVENT
SUMMARY:Reach out to Practical Farmers of Iowa about Beginning Farmer Workshops, Field Days & Annual Conference
DESCRIPTION:Reach out to them for information about their program.\n\nDescription: Year-round educational programming including workshops, farm field days, and an annual conference connecting 1,500+ farmers with expert knowledge and peer community.\n\n- Phone: (515) 232-5661\n- Email: rachel.burke@practicalfarmers.org\n- Source: https://founder-nav.com/programs/rec7CAulAZ3Pvaxg4\n\n---\nBrought to you by Founder Nav, helping entrepreneurs navigate the entrepreneurial ecosystem.
DTSTART:20260425T100013Z
DTEND:20260425T103013Z
END:VEVENT
END:VCALENDAR