BEGIN:VCALENDAR
VERSION:2.0
BEGIN:VEVENT
SUMMARY:Reach out to HiReady about HIR Accelerator
DESCRIPTION:Reach out to them for information about their program.\n\nDescription: Social enterprise accelerator by HiReady (Hawaii Investment Ready) supporting nonprofits and mission-driven businesses in developing revenue-generating strategies and impact investment readiness. Has graduated 50+ enterprises across six cohorts, connecting them with impact investors and grants.\n\n- Email: info@hireadyhawaii.org\n- Source: https://founder-nav.com/programs/rec774PPTr09IyKG7\n\n---\nBrought to you by Founder Nav, helping entrepreneurs navigate the entrepreneurial ecosystem.
DTSTART:20260425T100032Z
DTEND:20260425T103032Z
END:VEVENT
END:VCALENDAR