BEGIN:VCALENDAR
VERSION:2.0
BEGIN:VEVENT
SUMMARY:Reach out to Prosper about Magic City Match
DESCRIPTION:Reach out to them for information about their program.\n\nDescription: Magic City Match is an initiative led by REV Birmingham and powered by Prosper to match Black-owned businesses with Birmingham brick-and-mortar spaces where they can thrive. After a successful pilot program in 2022, Magic City Match has been refined for a new season to meet business owners where they are, with custom program offerings for three different stages of business growth. Stages include Ready, Open and Grow.\n\n\n- Email: dee.manyama@prosperbham.com\n- Source: https://founder-nav.com/programs/rec72o3EKWFGfyuET\n\n---\nBrought to you by Founder Nav, helping entrepreneurs navigate the entrepreneurial ecosystem.
DTSTART:20260425T100002Z
DTEND:20260425T103002Z
END:VEVENT
END:VCALENDAR