BEGIN:VCALENDAR
VERSION:2.0
BEGIN:VEVENT
SUMMARY:Reach out to Kansas SBDC about GAME (Growth Through Action, Measurement & Engagement)
DESCRIPTION:Reach out to them for information about their program.\n\nDescription: Advanced growth advisory program for established businesses with over $250,000 in sales or 3+ years in operation, providing in-depth financial analysis, benchmarking against industry norms, and strategic planning to help second-stage companies scale.\n\n- Phone: (913) 469-3878\n- Email: info@ksbdc.net\n- Source: https://founder-nav.com/programs/rec70QqZzhOJY12Fr\n\n---\nBrought to you by Founder Nav, helping entrepreneurs navigate the entrepreneurial ecosystem.
DTSTART:20260425T100025Z
DTEND:20260425T103025Z
END:VEVENT
END:VCALENDAR