BEGIN:VCALENDAR
VERSION:2.0
BEGIN:VEVENT
SUMMARY:Reach out to Leader Valley about Leader in Me (PreK-12 Student Leadership)
DESCRIPTION:Reach out to them for information about their program.\n\nDescription: School-based leadership development program implementing the Leader in Me framework in Cedar Valley PreK-12 schools, building leadership, academic, and life skills for 12,200+ students.\n\n- Phone: (319) 451-1325\n- Email: madi@leadervalley.org\n- Source: https://founder-nav.com/programs/rec6ufzGZkmmvsvJD\n\n---\nBrought to you by Founder Nav, helping entrepreneurs navigate the entrepreneurial ecosystem.
DTSTART:20260425T100017Z
DTEND:20260425T103017Z
END:VEVENT
END:VCALENDAR