BEGIN:VCALENDAR
VERSION:2.0
BEGIN:VEVENT
SUMMARY:Reach out to SCORE Idaho – Treasure Valley about Business Workshops & Webinars
DESCRIPTION:Reach out to them for information about their program.\n\nDescription: Free and low-cost business workshops and webinars covering topics such as marketing, business planning, financial projections, legal structure, and more. Offered locally in-person and online 24/7 through SCORE's national platform.\n\n- Phone: (208) 509-5301\n- Source: https://founder-nav.com/programs/rec6oSkOZRmYLPyO4\n\n---\nBrought to you by Founder Nav, helping entrepreneurs navigate the entrepreneurial ecosystem.
DTSTART:20260425T100022Z
DTEND:20260425T103022Z
END:VEVENT
END:VCALENDAR