BEGIN:VCALENDAR
VERSION:2.0
BEGIN:VEVENT
SUMMARY:Reach out to Economic Development Collaborative (EDC) about Digital Upskilling Training Program
DESCRIPTION:Reach out to them for information about their program.\n\nDescription: Free digital literacy and small business online training for entrepreneurs and business owners in Ventura and Santa Barbara counties. Covers computer basics and 'Get Your Small Business Online' curriculum. Part of EDC's UPSKILL workforce development initiative, which also provides employer training, job seeker support, and small business owner education.\n\n- Phone: (805) 409-9159\n- Email: info@edcollaborative.com\n- Source: https://founder-nav.com/programs/rec6ZfrVTxGKcqLN1\n\n---\nBrought to you by Founder Nav, helping entrepreneurs navigate the entrepreneurial ecosystem.
DTSTART:20260425T100000Z
DTEND:20260425T103000Z
END:VEVENT
END:VCALENDAR